BEGIN:VCALENDAR
VERSION:2.0
PRODID:-//Principal Institute of Excellence - ECPv6.15.20//NONSGML v1.0//EN
CALSCALE:GREGORIAN
METHOD:PUBLISH
X-ORIGINAL-URL:https://pieafrica.org
X-WR-CALDESC:Events for Principal Institute of Excellence
REFRESH-INTERVAL;VALUE=DURATION:PT1H
X-Robots-Tag:noindex
X-PUBLISHED-TTL:PT1H
BEGIN:VTIMEZONE
TZID:UTC
BEGIN:STANDARD
TZOFFSETFROM:+0000
TZOFFSETTO:+0000
TZNAME:UTC
DTSTART:20250101T000000
END:STANDARD
END:VTIMEZONE
BEGIN:VEVENT
DTSTART;TZID=UTC:20260205T080000
DTEND;TZID=UTC:20260205T170000
DTSTAMP:20260420T002045
CREATED:20260217T115516Z
LAST-MODIFIED:20260327T102943Z
UID:19-1770278400-1770310800@pieafrica.org
SUMMARY:AXELERAXN – R.A.C.E. to Futures Career Readiness Workshop | Springs Preperatory School
DESCRIPTION:On March 5th and 6th\, the Principal Institute of Excellence (PIE Africa) visited Springs Preperatory School to deliver the AXELERAXN workshop — a key component of its R.A.C.E. to Futures programme designed to bridge the career preparedness divide for young people in underserved communities. \nJHS students took part in an engaging\, hands-on career guidance session that introduced them to the world of work\, helped them explore career pathways aligned with their interests and abilities\, and equipped them with the foundational tools to begin planning their futures with confidence and purpose. \nThrough AXELERAXN\, PIE Africa is accelerating career readiness — one school at a time.
URL:https://pieafrica.org/event/axeleraxn-r-a-c-e-to-futures-career-readiness-workshop-springs-basic-school/
LOCATION:SPRINGS Preparatory and Day Care School\, SPRINGS Preparatory and Day Care School\, Ho\, Volta Region\, 0000\, Ghana
CATEGORIES:Axeleraxn Drive
ATTACH;FMTTYPE=image/jpeg:https://pieafrica.org/wp-content/uploads/2026/02/IMG_0713-scaled.jpg
ORGANIZER;CN="Community Outreach":MAILTO:info@communityoutreach.org
END:VEVENT
BEGIN:VEVENT
DTSTART;TZID=UTC:20260205T080000
DTEND;TZID=UTC:20260206T140000
DTSTAMP:20260420T002045
CREATED:20260217T115517Z
LAST-MODIFIED:20260327T103632Z
UID:21-1770278400-1770386400@pieafrica.org
SUMMARY:AXELERAXN – R.A.C.E. to Futures Career Readiness Workshop | RC Girls Basic School
DESCRIPTION:PIE Africa brought the AXELERAXN experience to RC Girls Basic School  as part of its R.A.C.E. to Futures programme — delivering a powerful career readiness workshop tailored specifically for JHS girls. \nStudents explored a wide range of career pathways\, developed greater self-awareness about their strengths and values\, and were encouraged to dream boldly about their futures. The session addressed both the academic and social-emotional dimensions of career planning\, helping young girls build the confidence and clarity needed to make intentional choices about their education and the road ahead. \nAt PIE Africa\, we believe that when a girl understands her potential\, she becomes unstoppable.
URL:https://pieafrica.org/event/green-thumb-gathering-community-gardening-day/
LOCATION:Volta Region
ATTACH;FMTTYPE=image/jpeg:https://pieafrica.org/wp-content/uploads/2026/02/IMG-20260114-WA0012.jpg
ORGANIZER;CN="Community Outreach":MAILTO:info@communityoutreach.org
END:VEVENT
BEGIN:VEVENT
DTSTART;TZID=UTC:20260720T080000
DTEND;TZID=UTC:20260724T170000
DTSTAMP:20260420T002045
CREATED:20260327T093827Z
LAST-MODIFIED:20260327T135731Z
UID:458-1784534400-1784912400@pieafrica.org
SUMMARY:Axeleraxn Drive Sprint 2 - Bankoe RC Philip Apko Memorial Basic School
DESCRIPTION:We are launching a 1-year Axeleraxn Programme Pilot for the 2026/2027 academic year in selected schools in the Volta Region of Ghana.The programme will support Junior High School students with structured career exposure\, self-discovery\, practical learning\, mentorship\, and guidance for better academic and future career decisions.Many students face important educational choices without enough support\, exposure\, or confidence. Thisprogramme is designed to close that gap and give young people the tools to better understand themselves\, explore possibilities\, and prepare for the future.
URL:https://pieafrica.org/event/axeleraxn-drive-sprint-2-bankoe-rc-philip-apko-memorial-basic-school/
LOCATION:Philip Akpo R.C. Primary And Junior High School\, Philip Akpo R.C. Primary And Junior High School\, Ho\, Volta Region\, 0000\, Ghana
CATEGORIES:Axeleraxn Drive
END:VEVENT
END:VCALENDAR