BEGIN:VCALENDAR
VERSION:2.0
PRODID:-//Principal Institute of Excellence - ECPv6.15.20//NONSGML v1.0//EN
CALSCALE:GREGORIAN
METHOD:PUBLISH
X-WR-CALNAME:Principal Institute of Excellence
X-ORIGINAL-URL:https://pieafrica.org
X-WR-CALDESC:Events for Principal Institute of Excellence
REFRESH-INTERVAL;VALUE=DURATION:PT1H
X-Robots-Tag:noindex
X-PUBLISHED-TTL:PT1H
BEGIN:VTIMEZONE
TZID:UTC
BEGIN:STANDARD
TZOFFSETFROM:+0000
TZOFFSETTO:+0000
TZNAME:UTC
DTSTART:20250101T000000
END:STANDARD
END:VTIMEZONE
BEGIN:VEVENT
DTSTART;TZID=UTC:20260114T080000
DTEND;TZID=UTC:20260116T140000
DTSTAMP:20260419T224923
CREATED:20260217T115517Z
LAST-MODIFIED:20260327T111350Z
UID:22-1768377600-1768572000@pieafrica.org
SUMMARY:AXELERAXN – R.A.C.E. to Futures Career Readiness Workshop | RC Philip Akpo Basic School
DESCRIPTION:PIE Africa continued its AXELERAXN school outreach with a career readiness workshop at RC Philip Akpo Basic School\, as part of the wider R.A.C.E. to Futures programme. \nJHS students engaged in a dynamic session focused on self-discovery\, career exploration\, and the practical skills needed to navigate their academic and professional futures. Facilitators guided learners through activities designed to build self-confidence\, expand their understanding of career options\, and inspire them to pursue their goals with clarity and purpose. \nThis session marks another meaningful milestone in PIE Africa’s growing impact — proving that intentional career guidance is not a privilege for the few\, but a right for every student.
URL:https://pieafrica.org/event/harmony-in-the-park-a-community-music-and-arts-festival/
LOCATION:Volta Region
ATTACH;FMTTYPE=image/jpeg:https://pieafrica.org/wp-content/uploads/2026/02/DSC_1089.jpg-scaled.jpeg
ORGANIZER;CN="Community Outreach":MAILTO:info@communityoutreach.org
END:VEVENT
END:VCALENDAR